BEGIN:VCALENDAR
VERSION:2.0
PRODID:-//Tukios.com/
BEGIN:VEVENT
UID:4b6466d5-1f34-417e-95a2-75742bcc0de8@www.dahlfuneralhome.com
DTSTAMP:20260422T192331Z
DTSTART:20260501T160000Z
DTEND:20260501T170000Z
SUMMARY:Celebration of Life
DESCRIPTION:
URL:https://www.dahlfuneralhome.com/obituaries/jerald-smith
LOCATION: 1825 W 12th St  Cedar Falls IA 50613
GEO:42.5283034;-92.4678793
END:VEVENT
END:VCALENDAR