BEGIN:VCALENDAR
VERSION:2.0
PRODID:-//Tukios.com/
BEGIN:VEVENT
UID:d42ea5b2-4c5d-4e78-8134-ca21db9dcad0@www.dahlfuneralhome.com
DTSTAMP:20260422T193025Z
DTSTART:20260423T150000Z
DTEND:20260423T160000Z
SUMMARY:Mass
DESCRIPTION:Please join the family for food and fellowship immediately 
	following Mass in the church gymnasium. During lunch, a microphone will 
	be available to those wanting to share a favorite memory or thought of a 
	great man.

A private inurnment will take place following lunch at Mt. 
	Olivet Cemetery.
URL:https://www.dahlfuneralhome.com/obituaries/gary-kelley
LOCATION: 705 Main Street  Cedar Falls IA 50613
GEO:42.5318829;-92.4464952
END:VEVENT
END:VCALENDAR