BEGIN:VCALENDAR
VERSION:2.0
PRODID:-//Tukios.com/
BEGIN:VEVENT
UID:16697e7d-b663-4419-862c-5f1aa4463c18@www.dahlfuneralhome.com
DTSTAMP:20260422T192959Z
DTSTART:20260423T140000Z
DTEND:20260423T150000Z
SUMMARY:Visitation
DESCRIPTION:
URL:https://www.dahlfuneralhome.com/obituaries/gary-kelley
LOCATION: 705 Main Street  Cedar Falls IA 50613
GEO:42.5318829;-92.4464952
END:VEVENT
END:VCALENDAR