BEGIN:VCALENDAR
VERSION:2.0
PRODID:-//Tukios.com/
BEGIN:VEVENT
UID:59767cda-662a-434c-bbd1-38aaeaa82dd1@www.dahlfuneralhome.com
DTSTAMP:20260422T192959Z
DTSTART:20260422T220000Z
DTEND:20260423T010000Z
SUMMARY:Visitation
DESCRIPTION:
URL:https://www.dahlfuneralhome.com/obituaries/gary-kelley
LOCATION: 1825 W 12th St  Cedar Falls IA 50613
GEO:42.5283034;-92.4678793
END:VEVENT
END:VCALENDAR