BEGIN:VCALENDAR
VERSION:2.0
PRODID:-//Tukios.com/
BEGIN:VEVENT
UID:e9fa6e82-044a-4b07-841a-c3cf95c2d969@www.dahlfuneralhome.com
DTSTAMP:20260422T192959Z
DTSTART:20260422T213000Z
DTEND:20260422T220000Z
SUMMARY:Rosary
DESCRIPTION:
URL:https://www.dahlfuneralhome.com/obituaries/gary-kelley
LOCATION: 1825 W 12th St  Cedar Falls IA 50613
GEO:42.5283034;-92.4678793
END:VEVENT
END:VCALENDAR