BEGIN:VCALENDAR
VERSION:2.0
PRODID:-//Tukios.com/
BEGIN:VEVENT
UID:9ddf84ae-75a8-4dde-9241-e7bc58fcca51@www.dahlfuneralhome.com
DTSTAMP:20260422T191737Z
DTSTART:20260501T143000Z
DTEND:20260501T160000Z
SUMMARY:Visitation
DESCRIPTION:
URL:https://www.dahlfuneralhome.com/obituaries/carol-smith
LOCATION: 1825 W 12th St  Cedar Falls IA 50613
GEO:42.5283034;-92.4678793
END:VEVENT
END:VCALENDAR